BEGIN:VCALENDAR
VERSION:2.0
PRODID:-//Our Events - ECPv6.15.20//NONSGML v1.0//EN
CALSCALE:GREGORIAN
METHOD:PUBLISH
X-WR-CALNAME:Our Events
X-ORIGINAL-URL:https://our-events.de
X-WR-CALDESC:Veranstaltungen für Our Events
REFRESH-INTERVAL;VALUE=DURATION:PT1H
X-Robots-Tag:noindex
X-PUBLISHED-TTL:PT1H
BEGIN:VTIMEZONE
TZID:Europe/Berlin
BEGIN:DAYLIGHT
TZOFFSETFROM:+0100
TZOFFSETTO:+0200
TZNAME:CEST
DTSTART:20240331T010000
END:DAYLIGHT
BEGIN:STANDARD
TZOFFSETFROM:+0200
TZOFFSETTO:+0100
TZNAME:CET
DTSTART:20241027T010000
END:STANDARD
BEGIN:DAYLIGHT
TZOFFSETFROM:+0100
TZOFFSETTO:+0200
TZNAME:CEST
DTSTART:20250330T010000
END:DAYLIGHT
BEGIN:STANDARD
TZOFFSETFROM:+0200
TZOFFSETTO:+0100
TZNAME:CET
DTSTART:20251026T010000
END:STANDARD
BEGIN:DAYLIGHT
TZOFFSETFROM:+0100
TZOFFSETTO:+0200
TZNAME:CEST
DTSTART:20260329T010000
END:DAYLIGHT
BEGIN:STANDARD
TZOFFSETFROM:+0200
TZOFFSETTO:+0100
TZNAME:CET
DTSTART:20261025T010000
END:STANDARD
END:VTIMEZONE
BEGIN:VEVENT
DTSTART;TZID=Europe/Berlin:20250828T193000
DTEND;TZID=Europe/Berlin:20250828T220000
DTSTAMP:20260420T233733
CREATED:20250519T121604Z
LAST-MODIFIED:20250519T121604Z
UID:10026336-1756409400-1756418400@our-events.de
SUMMARY:MASS FÜR MASS VON WILLIAM SHAKESPEARE mit der shakespeare company im Bürgerpark/Melcherswiese
DESCRIPTION:»Maß für Maß« zählt zu William Shakespeare Komödien\, was angesichts des Konflikts auf Leben und Tod für heutige Zuschauer nicht leicht nachzuvollziehen ist. Umso spannender ist die Beschäftigung damit aus einer heutigen Perspektive. \nShakespeares fiktives Wien ist eine moralisch heruntergekommene Metropole\, in der sich zwielichtiges Gesindel breit gemacht hat und der Alltag von Prostitution und Kriminalität durchdrungen ist. Anscheinend ist die allzu liberale Regierung der Präsidentin nicht ganz unschuldig daran\, weshalb sie einen radikalen Schnitt wagt: sie setzt Angelo als Interims-Regenten ein\, angeblich um auf Reisen zu gehen. In Wahrheit jedoch verkleidet sie sich als Nonne und mischt sich unters Volk der Stadt.\nAngelo gilt als echter Hardliner und unbestechlich und rechtschaffen bis auf die Knochen. Seine erste Amtshandlung ist ein Todesurteil: Claudio\, der seine Geliebte vorehelich geschwängert hat\, soll wegen Unzucht hingerichtet werden. Doch Lucio\, Claudios Freund\, überredet dessen Schwester\, Isabella\, bei Angelo um seine Begnadigung zu bitten. Isabella ist Novizin und ihre Reinheit und ihre eindringlichen Bitten rufen noch nie gekannte Gefühle in Angelo wach: ist es Verliebtheit oder nur Lust? Er sieht seine Gelegenheit gekommen\, endlich auch zu erfahren\, was es mit der Liebe und der Lust auf sich hat und erpresst Isabella: wenn sie mit ihm schläft\, würde er ihren Bruder begnadigen.\nIsabella ist empört und opfert lieber ihren Bruder als ihre selbstbestimmte Keuschheit. Als sich die Schlinge immer mehr zuzieht\, bittet Isabella die Präsidentin\, die inkognito unterwegs ist\, um Hilfe. Und die findet einen listigen Ausweg\, Angelo bei seinen eigenen Verfehlungen zu packen… Dunkelheit\, Begierde\, eine falsche Leiche und ein übler Schauprozess spielen darin die Hauptrollen.\nAuf geniale Weise mixt William Shakespeare diesen lebensbedrohlichen Konflikt mit Situationen voll schwarzen Humors und rechtsphilosophischen und theologischen Argumentationen – ein Krimi\, der die Frage stellt\, was eine Regierung darf\, um dem Recht Geltung zu verschaffen. \nAuch in der dritten Arbeit des Ensembles mit dem Regisseur Stefan Otteni\, wird nach KING CHARLES III und ANGELA I. das Verhältnis von Volk und Staat ausgelotet. Welche Regeln gibt sich eine Stadt\, ein Staat? Folgen sie Einsichten und Gewohnheiten\, die die Mehrheit der Bevölkerung teilt und nach denen sie lebt\, oder hängen sie von den persönlichen Qualitäten\, bzw. Mängeln\, der Herrschenden ab? Soll ein Volksvertreter das Volk gängeln oder geißeln um Gesetze durchzusetzen? Und wer ist „das Volk“? Der denkende Bürger? Der blinde Pöbel? Fragen\, die sich nach Pandemie und Populismus\, dringlich stellen. Tragische Fragen\, die Shakespeare in einem komödiantischen Drama\, bzw. einer dramatischen Komödie auflöst. \nDauer: 2:30 inkl. Pause \nAufführungssprache: deutsch \nCopyright Text & Bild: Shakespeare Company
URL:https://our-events.de/event/mass-fuer-mass-von-william-shakespeare-mit-der-shakespeare-company-im-buergerpark-melcherswiese/
LOCATION:Melcherswiese im Bürgerpark\, Bremen\, 28209
CATEGORIES:Theater
ATTACH;FMTTYPE=image/png:https://our-events.de/wp-content/uploads/2025/03/Unterstuetzer_Shakespeare-Company.png
END:VEVENT
BEGIN:VEVENT
DTSTART;TZID=Europe/Berlin:20250825T180000
DTEND;TZID=Europe/Berlin:20250825T203000
DTSTAMP:20260420T233733
CREATED:20250806T164544Z
LAST-MODIFIED:20250806T164900Z
UID:10027108-1756144800-1756153800@our-events.de
SUMMARY:SHAKESPEARE IM PARK: EIN SOMMERNACHTSTRAUM mit der shakespear company im Bürgerpark
DESCRIPTION:Von William Shakespeare. In einer Version für 4 Schauspieler:innen. \nIn Athen hat wahre Liebe einen schweren Stand – kein Wunder: ihr Herrscher Theseus hat seine Braut Hippolyta als Kriegsbeute mitgebracht und zwingt sie zur Heirat. Auch Hermia soll zur Heirat gezwungen werden – mit Demetrius. Doch Hermia weigert sich\, Demetrius zu heiraten\, sie liebt Lysander und flieht mit ihm des Nachts in den Wald. Doch Demetrius ist ihnen auf den Fersen\, allerdings heftet sich an seine Fersen auch jemand. Helena\, die ihn schon lange vergeblich anhimmelt. Aber was kann schon gut werden in diesem nächtlichen Wald\, dessen Herrscher\, der Elfenkönig Oberon heillos zerstritten ist mit seiner Frau Titania – statt Liebe ist nur Eifersucht zwischen den beiden!\nShakespeare hat diese vielfache Liebesverwirrung in eine zauberhafte Komödie verwandelt\, in der Humor und sehnsuchtsvoller Traum magisch verschmelzen.\nDas Drama um die vier Liebenden\, die im nächtlichen Wald von dem zerstrittenen Elfenkönigspaar ins „Bockshorn“ gejagt werden\, ist in den vergangenen Jahrzehnten bereits dreimal von der bremer shakespeare company neu inszeniert worden. Mit Patricia Benecke (“Das Wintermärchen\, „Der seltsame Fall der Prudencia Hart“) als Regisseurin bringt sie die beliebte Traum-Komödie mit nur vier Schauspieler:innen neu auf die Bühne. Mit einfachen Requisiten und ein paar Musikinstrumenten wirft sich das Quartett unter dem Motto „Wenig Materialaufwand\, dafür umso mehr Fantasie“ in die rasant-wendigen Wechsel der Figuren und Spielsituationen und zieht die Zuschauer in Shakespeares sommernächtliche Licht- und Schattenwelten. Dauer: 2:20 inkl. Pause \nCopyright Text & Bild: Shakespeare Company
URL:https://our-events.de/event/shakespeare-im-park-ein-sommernachtstraum-mit-der-shakespear-company-im-buergerpark/
LOCATION:Melcherswiese im Bürgerpark\, Bremen\, 28209
CATEGORIES:Theater
ATTACH;FMTTYPE=image/png:https://our-events.de/wp-content/uploads/2025/03/Unterstuetzer_Shakespeare-Company.png
END:VEVENT
BEGIN:VEVENT
DTSTART;TZID=Europe/Berlin:20250824T193000
DTEND;TZID=Europe/Berlin:20250824T220000
DTSTAMP:20260420T233733
CREATED:20250514T132834Z
LAST-MODIFIED:20250806T170049Z
UID:10026002-1756063800-1756072800@our-events.de
SUMMARY:CORIOLANUS VON WILLIAM SHAKESPEARE mit der shakespeare company im Bürgerpark
DESCRIPTION:Krieg kann er gut\, Politik eher nicht und Demokratie schon gar nicht: Der römische Feldherr Caius Martius ist ein Kämpfer\, ein Held\, fast im Alleingang hat er aufständischen Volsker in einer Schlacht bei der Stadt Corioli zurückgeschlagen. Zur Belohnung bekommt er den Beinamen Coriolanus verliehen und soll zum römischen Konsul ernannt werden. Allerdings bestehen die zuvor ernannten Volkstribunen darauf\, dass er öffentlich und demütig um seine Wahl bittet. Die Plebejer um ihre Stimmen bitten – für Coriolanus eine Zumutung! Auf dem glatten Politparkett der römischen Republik reißt er überheblich und starrsinnig jeden politischen Fallstrick. Selbst seine Mutter\, die lieber einen toten als erfolglosen Sohn hätte und hinter den Kulissen seine politische Karriere befördern will\, kann ihn nicht umstimmen. Um Rom vor IHM zu retten\, wird er in die Verbannung geschickt\, wo er sich ausgerechnet mit Volsker-Anführer Aufidius verbündet\, um gegen Rom zu ziehen. Seine Entscheidungen sind eher von Narzissmus und Arroganz geprägt als von politischen Überzeugungen und strategischer Weitsicht. Am Ende wird er als Verräter getötet. Coriolanus‘ Figur changiert zwischen brutal\, lächerlich und tragisch. Das komödiantische und effektvolle Spiel zeigt das Römerdrama als Politsatire mit aktuellen Bezügen zum heutigen politischen Handeln autokratischer Staatslenker. Fragen nach der Belastbarkeit demokratischer Strukturen und der Aufrichtigkeit im politischen Handeln stehen im Zentrum der Inszenierung.\nDie zweisprachige Inszenierung verbindet die szenischen Spielweisen des Tiyatro BeReZe und der bsc – vom physischen Theater zum Storytelling\, vom Objekttheater bis zur Clown-Darstellung. \nDie zweisprachige Inszenierung verbindet die szenischen Spielweisen des Tiyatro BeReZe und der bsc – vom physischen Theater zum Storytelling\, vom Objekttheater bis zur Clown-Darstellung. Die beiden Ensembles entwickeln eine ausdrucksstarke »Aufführungssprache« des Theaterspiels\, die ohne Overhead-Übersetzungen auskommt und freuen sich darauf\, deutsches und türkisches Publikum zusammenzubringen. In den Jahren 2016 und 2018 war das Tiyatro BeReZe mit seiner Inszenierung von »Macbeth – A Nightmare For Two« für 2 Schauspieler bei der bremer shakespeare company zu Gast. In gemeinsamen Workshops haben die beiden Ensembles die unterschiedlichen Möglichkeiten in der Aufführungspraxis eines Shakespeare-Dramas entdeckt. \nAufführungssprachen: deutsch\, türkisch \nCopyright Text & Bild: Shakespeare Company
URL:https://our-events.de/event/die-komoedie-der-irrungen-von-william-shakespeare-zweisprachige-auffuehrung-in-tuerkischer-und-deutscher-sprache-mit-der-shakespeare-company-im-buergerpark/
LOCATION:Melcherswiese im Bürgerpark\, Bremen\, 28209
CATEGORIES:Theater
ATTACH;FMTTYPE=image/png:https://our-events.de/wp-content/uploads/2025/03/Unterstuetzer_Shakespeare-Company.png
END:VEVENT
END:VCALENDAR