BEGIN:VCALENDAR
VERSION:2.0
PRODID:-//Our Events - ECPv6.15.20//NONSGML v1.0//EN
CALSCALE:GREGORIAN
METHOD:PUBLISH
X-ORIGINAL-URL:https://our-events.de
X-WR-CALDESC:Veranstaltungen für Our Events
REFRESH-INTERVAL;VALUE=DURATION:PT1H
X-Robots-Tag:noindex
X-PUBLISHED-TTL:PT1H
BEGIN:VTIMEZONE
TZID:Europe/Berlin
BEGIN:DAYLIGHT
TZOFFSETFROM:+0100
TZOFFSETTO:+0200
TZNAME:CEST
DTSTART:20250330T010000
END:DAYLIGHT
BEGIN:STANDARD
TZOFFSETFROM:+0200
TZOFFSETTO:+0100
TZNAME:CET
DTSTART:20251026T010000
END:STANDARD
BEGIN:DAYLIGHT
TZOFFSETFROM:+0100
TZOFFSETTO:+0200
TZNAME:CEST
DTSTART:20260329T010000
END:DAYLIGHT
BEGIN:STANDARD
TZOFFSETFROM:+0200
TZOFFSETTO:+0100
TZNAME:CET
DTSTART:20261025T010000
END:STANDARD
BEGIN:DAYLIGHT
TZOFFSETFROM:+0100
TZOFFSETTO:+0200
TZNAME:CEST
DTSTART:20270328T010000
END:DAYLIGHT
BEGIN:STANDARD
TZOFFSETFROM:+0200
TZOFFSETTO:+0100
TZNAME:CET
DTSTART:20271031T010000
END:STANDARD
END:VTIMEZONE
BEGIN:VEVENT
DTSTART;TZID=Europe/Berlin:20260507T090000
DTEND;TZID=Europe/Berlin:20260507T120000
DTSTAMP:20260423T184413
CREATED:20260422T140253Z
LAST-MODIFIED:20260422T140345Z
UID:10040599-1778144400-1778155200@our-events.de
SUMMARY:Mitmachen in der digitalen Welt
DESCRIPTION:Folgendes erwartet Dich/Sie: \n\nGrundlagen Zugang zu den Google-Tools (Google Drive\, Google Translate)\nScannen von Dokumenten für Anträge und Kontakt mit Behörden (wie z.B. Jobcenter\, Kita-Portal)\nGoogle Drive Ordner anlegen für gescannte  Dokumente\nEigene Fragen\n\nDie Plätze sind begrenzt. Wir bitten um eine Anmeldung unter: aiq-kattenturm@afsd.bremen.de. Gerne organisieren wir einen Dolmetscher\, wenn Sie uns Bescheid geben. \n  \nCopyright Text & Bild: Ankommen im Quartier Kattenturm
URL:https://our-events.de/event/mitmachen-in-der-digitalen-welt/
LOCATION:FreiRaum\, Theodor-Billroth-Straße 129\, Bremen\, 28277
CATEGORIES:Workshop
ATTACH;FMTTYPE=application/pdf:https://our-events.de/wp-content/uploads/2026/04/Quartier-Kattenturm-2-1.pdf
END:VEVENT
END:VCALENDAR