BEGIN:VCALENDAR
VERSION:2.0
PRODID:-//Our Events - ECPv6.15.20//NONSGML v1.0//EN
CALSCALE:GREGORIAN
METHOD:PUBLISH
X-ORIGINAL-URL:https://our-events.de
X-WR-CALDESC:Veranstaltungen für Our Events
REFRESH-INTERVAL;VALUE=DURATION:PT1H
X-Robots-Tag:noindex
X-PUBLISHED-TTL:PT1H
BEGIN:VTIMEZONE
TZID:Europe/Berlin
BEGIN:DAYLIGHT
TZOFFSETFROM:+0100
TZOFFSETTO:+0200
TZNAME:CEST
DTSTART:20300331T010000
END:DAYLIGHT
BEGIN:STANDARD
TZOFFSETFROM:+0200
TZOFFSETTO:+0100
TZNAME:CET
DTSTART:20301027T010000
END:STANDARD
BEGIN:DAYLIGHT
TZOFFSETFROM:+0100
TZOFFSETTO:+0200
TZNAME:CEST
DTSTART:20310330T010000
END:DAYLIGHT
BEGIN:STANDARD
TZOFFSETFROM:+0200
TZOFFSETTO:+0100
TZNAME:CET
DTSTART:20311026T010000
END:STANDARD
BEGIN:DAYLIGHT
TZOFFSETFROM:+0100
TZOFFSETTO:+0200
TZNAME:CEST
DTSTART:20320328T010000
END:DAYLIGHT
BEGIN:STANDARD
TZOFFSETFROM:+0200
TZOFFSETTO:+0100
TZNAME:CET
DTSTART:20321031T010000
END:STANDARD
END:VTIMEZONE
BEGIN:VEVENT
DTSTART;TZID=Europe/Berlin:20310407T150000
DTEND;TZID=Europe/Berlin:20310407T200000
DTSTAMP:20260422T004322
CREATED:20260416T125301Z
LAST-MODIFIED:20260416T125301Z
UID:10040568-1933340400-1933358400@our-events.de
SUMMARY:Jugendclub Kattenturm | Mo-Do\, 15-20 Uhr
DESCRIPTION:🕹️ Action\, Chillout & Gemeinschaft im Jugendclub Kattenturm! 🏀 \nBist du zwischen 12 und 21 Jahre alt? Dann ist das „Freizi“ dein Ort in Kattenturm! Ob Billard\, Gaming auf Großbildleinwand\, Musikstudio oder einfach nur Abhängen mit Freunden – hier ist alles möglich. 🎸🎮 \n🔥 Highlights: \n\nPS4 & PC-Plätze\nMusikstudio & Mädchenraum\nBolzplatz & Basketball\nImmer jemand zum Reden da!\n\n📍 Wo? Jasper-Oelrichs-Straße 14 (Schulhof GS Stichnathstraße). \n⏰ Wann? Mo-Do\, 15-20 Uhr. \n💰 Eintritt? Kostenlos und ohne Anmeldung! \nHör in unser neues Podcast rein und erfahre mehr! 🎧 \n#KulturtafelBremen #JugendclubKattenturm #AWO #Bremen #Kattenturm #Freizeit #Jugendzentrum #GemeinsamWasErleben
URL:https://our-events.de/event/jugendclub-kattenturm-mo-do-15-20-uhr/2031-04-07/
LOCATION:Bremen
CATEGORIES:Treffpunkt
ATTACH;FMTTYPE=image/jpeg:https://our-events.de/wp-content/uploads/2026/03/podcast-cover-Jugendclub-©-Carsten-Dohme-KI-unterstuetzt-.jpg
END:VEVENT
END:VCALENDAR