BEGIN:VCALENDAR
VERSION:2.0
PRODID:-//Our Events - ECPv6.15.20//NONSGML v1.0//EN
CALSCALE:GREGORIAN
METHOD:PUBLISH
X-ORIGINAL-URL:https://our-events.de
X-WR-CALDESC:Veranstaltungen für Our Events
REFRESH-INTERVAL;VALUE=DURATION:PT1H
X-Robots-Tag:noindex
X-PUBLISHED-TTL:PT1H
BEGIN:VTIMEZONE
TZID:Europe/Berlin
BEGIN:DAYLIGHT
TZOFFSETFROM:+0100
TZOFFSETTO:+0200
TZNAME:CEST
DTSTART:20300331T010000
END:DAYLIGHT
BEGIN:STANDARD
TZOFFSETFROM:+0200
TZOFFSETTO:+0100
TZNAME:CET
DTSTART:20301027T010000
END:STANDARD
BEGIN:DAYLIGHT
TZOFFSETFROM:+0100
TZOFFSETTO:+0200
TZNAME:CEST
DTSTART:20310330T010000
END:DAYLIGHT
BEGIN:STANDARD
TZOFFSETFROM:+0200
TZOFFSETTO:+0100
TZNAME:CET
DTSTART:20311026T010000
END:STANDARD
BEGIN:DAYLIGHT
TZOFFSETFROM:+0100
TZOFFSETTO:+0200
TZNAME:CEST
DTSTART:20320328T010000
END:DAYLIGHT
BEGIN:STANDARD
TZOFFSETFROM:+0200
TZOFFSETTO:+0100
TZNAME:CET
DTSTART:20321031T010000
END:STANDARD
END:VTIMEZONE
BEGIN:VEVENT
DTSTART;TZID=Europe/Berlin:20310227T100000
DTEND;TZID=Europe/Berlin:20310227T110000
DTSTAMP:20260422T064456
CREATED:20260414T103144Z
LAST-MODIFIED:20260417T101655Z
UID:10040291-1929952800-1929956400@our-events.de
SUMMARY:Sprechstunde / Vorstellung / Anmeldung Kulturtafel während des Gemeindecafés im Gemeindezentrum der Martin-Luther-Gemeinde
DESCRIPTION:Keine Sprechstunde während der Schulferien. \nIhr habt von der Kulturtafel gehört und möchtet mehr darüber erfahren? / Ви чули про Kulturtafel і хотіли б дізнатися більше? / Have you heard about the Kulturtafel and would like to find out more? / Vous avez entendu parler de la Kulturtafel et vous souhaitez en savoir plus ? \n\nWir erklären euch\, was die Kulturtafel ist\, wie sie funktioniert und wer teilnehmen kann.\nМи пояснюємо\, що таке Kulturtafel\, як він працює і хто може взяти в ньому участь.\nWe explain what the Kulturtafel is\, how it works and who can take part.\nNous vous expliquons ce qu’est le tableau culturel\, comment il fonctionne et qui peut y participer.\n\nNoch kein Mitglied bei der Kulturtafel? / Not yet a member of the Kulturtafel? / Ще не є членом Kulturtafel? / Pas encore membre de la Kulturtafel ? \n\nIn unseren Sprechstunden könnt ihr euch für die Kulturtafel registrieren. Wir helfen euch dabei.\nВи можете зареєструватися на Kulturtafel під час наших консультацій. Ми допоможемо вам у цьому.\nYou can register for the Kulturtafel during our consultation hours. We will help you with this.\nLors de nos permanences\, vous pouvez vous inscrire au tableau culturel. Nous vous aiderons à le faire.\n\nIhr möchtet\, dass wir euch bei der Reservierung einer Veranstaltung helfen? / Хочете\, щоб ми допомогли вам забронювати захід? / Would you like us to help you book an event? / Vous souhaitez que nous vous aidions à réserver un événement ? \n\nWir helfen euch dabei eine passende Veranstaltung für euch zu finden und eine Reservierung vorzunehmen.\nМи допоможемо вам знайти відповідний для вас захід і зробити бронювання.\nWe will help you find a suitable event for you and make a reservation.\nNous vous aidons à trouver un événement qui vous convient et à faire une réservation.\n\n\n\n\n\n\n\n\n\n\n\n\n\n\n\n\n\n\n\n\n\n\n\n\n\n\n\n\n\n\n\n\n\n\n\n 
URL:https://our-events.de/event/sprechstunde-vorstellung-anmeldung-kulturtafel-waehrend-des-gemeindecafes-im-gemeindezentrum-der-martin-luther-gemeinde/2031-02-27/
LOCATION:Gemeindezentrum Martin-Luther-Gemeinde\, Neukirchstraße 86\, Bremen\, 28215
CATEGORIES:Treffpunkt
ATTACH;FMTTYPE=image/png:https://our-events.de/wp-content/uploads/2024/10/Logo-KTB.png
END:VEVENT
BEGIN:VEVENT
DTSTART;TZID=Europe/Berlin:20310227T100000
DTEND;TZID=Europe/Berlin:20310227T130000
DTSTAMP:20260422T064456
CREATED:20260330T144144Z
LAST-MODIFIED:20260330T144144Z
UID:10038218-1929952800-1929963600@our-events.de
SUMMARY:Truhe 24 - Second Hand in Kattenturm
DESCRIPTION:Die „Truhe 24“ ist ein Projekt\, das zeigt\, wie Nachbarschaft und Gemeinschaft in Bremen gelebt werden. Es ist ein Ort zum Aufatmen\, zum Stöbern und vor allem zum Mensch sein. \nHinter der Truhe 24 steht eine starke Gemeinschaft. Es ist eine Kooperation der Abraham-Gemeinde\, der Paulus-Gemeinde und der St.-Markus-Gemeinde aus Bremen-Obervieland. Die treibenden Kräfte vor Ort sind Ingo Bröckel und Brigitte Jander. Gemeinsam mit vielen freiwilligen Helfern sorgen sie dafür\, dass sich jeder Gast willkommen fühlt. Hier zählt nicht der Geldbeutel\, sondern der Mensch. Wertschätzung und ein offenes Ohr werden hier großgeschrieben.
URL:https://our-events.de/event/truhe-24-second-hand-in-kattenturm-2/2031-02-27/
LOCATION:Truhe 24\, Alfred-Faust-Straße 24\, Bremen\, 28277
CATEGORIES:Treffpunkt
ATTACH;FMTTYPE=image/jpeg:https://our-events.de/wp-content/uploads/2026/03/Truhe-24-Kleiderkammer-mi-Mikro.jpeg
END:VEVENT
BEGIN:VEVENT
DTSTART;TZID=Europe/Berlin:20310227T150000
DTEND;TZID=Europe/Berlin:20310227T180000
DTSTAMP:20260422T064456
CREATED:20260305T103432Z
LAST-MODIFIED:20260402T113049Z
UID:10039141-1929970800-1929981600@our-events.de
SUMMARY:KunstPause
DESCRIPTION:Für Kinder von 6-12 Jahren // kostenfrei // mit Anmeldung – \nDas Projekt der QUARTIER gGmbH startet als ein Ferien-Angebot in der zweiten Osterferienwoche. Kinder im Alter von sechs bis zwölf Jahren können vom 30.03. bis 02.04. jeweils von 9 bis 13 Uhr im ATELIER\, dem Standort von QUARTIER in Kattenturm an der Theodor-Billroth-Straße 5\, zusammen mit der Künstlerin Elena Ortega mit verschiedenen Farb- und Drucktechniken experimentieren und sich künstlerisch ausprobieren. \nAb dem 09.04. geht das Experimentieren und Ausprobieren bis zu den Sommerferien donnerstags von 15-18 Uhr weiter. Mit viel Platz und großem Raum für eigene Ideen können Kinder im ATELIER künstlerisch forschend mit unterschiedlichen Materialien experimentieren und ihre Ideen umsetzen. \nIn den Sommerferien wird es vom 20.-24.07. eine weitere Projektwoche geben\, entweder im ATELIER oder als offenes Straßen-Atelier an verschiedenen Orten in Kattenturm. Aktuelle Informationen gibt es auf unserer Website www.quartier-bremen.de. \nAlle Werke aus dem gesamten Projekt werden in einer abschließenden Ausstellung für Eltern und Freund:innen gezeigt. \nAnmeldungen sind unter atelier@quartier-bremen.de oder Telefon 0421/875880 möglich. \nEin Projekt der QUARTIER gGmbH. Gefördert durch das Programm WiN (Wohnen in Nachbarschaften)\, Vonovia und Cambio.
URL:https://our-events.de/event/kunstpause/2031-02-27/
LOCATION:ATELIER // Quartier in Kattenturm\, Theodor-Billroth-Straße 5\, Bremen\, 28277
CATEGORIES:Kattenturm,Kinderveranstaltung,Kreatives,Kunst
ATTACH;FMTTYPE=image/jpeg:https://our-events.de/wp-content/uploads/2026/03/Kunstpause_Navi-Carolay-Ugarte-6.jpg
ORGANIZER;CN="Quartier gGmbH":MAILTO:atelier@quartier-bremen.de
END:VEVENT
END:VCALENDAR