BEGIN:VCALENDAR
VERSION:2.0
PRODID:-//Our Events - ECPv6.15.20//NONSGML v1.0//EN
CALSCALE:GREGORIAN
METHOD:PUBLISH
X-ORIGINAL-URL:https://our-events.de
X-WR-CALDESC:Veranstaltungen für Our Events
REFRESH-INTERVAL;VALUE=DURATION:PT1H
X-Robots-Tag:noindex
X-PUBLISHED-TTL:PT1H
BEGIN:VTIMEZONE
TZID:Europe/Berlin
BEGIN:DAYLIGHT
TZOFFSETFROM:+0100
TZOFFSETTO:+0200
TZNAME:CEST
DTSTART:20300331T010000
END:DAYLIGHT
BEGIN:STANDARD
TZOFFSETFROM:+0200
TZOFFSETTO:+0100
TZNAME:CET
DTSTART:20301027T010000
END:STANDARD
BEGIN:DAYLIGHT
TZOFFSETFROM:+0100
TZOFFSETTO:+0200
TZNAME:CEST
DTSTART:20310330T010000
END:DAYLIGHT
BEGIN:STANDARD
TZOFFSETFROM:+0200
TZOFFSETTO:+0100
TZNAME:CET
DTSTART:20311026T010000
END:STANDARD
BEGIN:DAYLIGHT
TZOFFSETFROM:+0100
TZOFFSETTO:+0200
TZNAME:CEST
DTSTART:20320328T010000
END:DAYLIGHT
BEGIN:STANDARD
TZOFFSETFROM:+0200
TZOFFSETTO:+0100
TZNAME:CET
DTSTART:20321031T010000
END:STANDARD
END:VTIMEZONE
BEGIN:VEVENT
DTSTART;TZID=Europe/Berlin:20310218T150000
DTEND;TZID=Europe/Berlin:20310218T180000
DTSTAMP:20260421T170336
CREATED:20260330T143908Z
LAST-MODIFIED:20260330T143908Z
UID:10037695-1929193200-1929204000@our-events.de
SUMMARY:Truhe 24 - Second Hand in Kattenturm
DESCRIPTION:Die „Truhe 24“ ist ein Projekt\, das zeigt\, wie Nachbarschaft und Gemeinschaft in Bremen gelebt werden. Es ist ein Ort zum Aufatmen\, zum Stöbern und vor allem zum Mensch sein. \nHinter der Truhe 24 steht eine starke Gemeinschaft. Es ist eine Kooperation der Abraham-Gemeinde\, der Paulus-Gemeinde und der St.-Markus-Gemeinde aus Bremen-Obervieland. Die treibenden Kräfte vor Ort sind Ingo Bröckel und Brigitte Jander. Gemeinsam mit vielen freiwilligen Helfern sorgen sie dafür\, dass sich jeder Gast willkommen fühlt. Hier zählt nicht der Geldbeutel\, sondern der Mensch. Wertschätzung und ein offenes Ohr werden hier großgeschrieben.
URL:https://our-events.de/event/truhe-24-second-hand-in-kattenturm/2031-02-18/
LOCATION:Truhe 24\, Alfred-Faust-Straße 24\, Bremen\, 28277
CATEGORIES:Treffpunkt
ATTACH;FMTTYPE=image/jpeg:https://our-events.de/wp-content/uploads/2026/03/Truhe-24-Kleiderkammer-mi-Mikro.jpeg
END:VEVENT
BEGIN:VEVENT
DTSTART;TZID=Europe/Berlin:20310218T170000
DTEND;TZID=Europe/Berlin:20310218T183000
DTSTAMP:20260421T170336
CREATED:20260305T101750Z
LAST-MODIFIED:20260306T080951Z
UID:10036824-1929200400-1929205800@our-events.de
SUMMARY:Kreativ-Cafe für Frauen
DESCRIPTION:Im Haus der Familie Obervieland findet jeden Dienstag von 17:00-18:30 Uhr ein Kreativ-Cafe für Frauen statt. \nEs besteht für euch die Möglichkeit unter Anleitung zu häkeln\, stricken\, nähen und sich in einer gemütlichen Runde beim gemeinsamen Tee/Kaffee auszutauschen. Frauen jeden Alters mit und ohne Flucht-und Migrationshintergrund sind mit ihren Kindern herzlich willkommen. \nDer Kurs ist kostenlos und es wird eine Kinderbetreuung angeboten!
URL:https://our-events.de/event/kreativ-cafe-fuer-frauen-2/2031-02-18/
LOCATION:Haus der Familie Obervieland\, Eichelnkämpe 11\, Bremen\, 28277
CATEGORIES:Hobby,Kreatives
END:VEVENT
END:VCALENDAR