BEGIN:VCALENDAR
VERSION:2.0
PRODID:-//Our Events - ECPv6.15.20//NONSGML v1.0//EN
CALSCALE:GREGORIAN
METHOD:PUBLISH
X-ORIGINAL-URL:https://our-events.de
X-WR-CALDESC:Veranstaltungen für Our Events
REFRESH-INTERVAL;VALUE=DURATION:PT1H
X-Robots-Tag:noindex
X-PUBLISHED-TTL:PT1H
BEGIN:VTIMEZONE
TZID:Europe/Berlin
BEGIN:DAYLIGHT
TZOFFSETFROM:+0100
TZOFFSETTO:+0200
TZNAME:CEST
DTSTART:20270328T010000
END:DAYLIGHT
BEGIN:STANDARD
TZOFFSETFROM:+0200
TZOFFSETTO:+0100
TZNAME:CET
DTSTART:20271031T010000
END:STANDARD
BEGIN:DAYLIGHT
TZOFFSETFROM:+0100
TZOFFSETTO:+0200
TZNAME:CEST
DTSTART:20280326T010000
END:DAYLIGHT
BEGIN:STANDARD
TZOFFSETFROM:+0200
TZOFFSETTO:+0100
TZNAME:CET
DTSTART:20281029T010000
END:STANDARD
BEGIN:DAYLIGHT
TZOFFSETFROM:+0100
TZOFFSETTO:+0200
TZNAME:CEST
DTSTART:20290325T010000
END:DAYLIGHT
BEGIN:STANDARD
TZOFFSETFROM:+0200
TZOFFSETTO:+0100
TZNAME:CET
DTSTART:20291028T010000
END:STANDARD
END:VTIMEZONE
BEGIN:VEVENT
DTSTART;TZID=Europe/Berlin:20280828T133000
DTEND;TZID=Europe/Berlin:20280901T153000
DTSTAMP:20260420T004416
CREATED:20250707T124355Z
LAST-MODIFIED:20250707T124355Z
UID:10026925-1851082200-1851435000@our-events.de
SUMMARY:Mittagstisch für Schüler
DESCRIPTION:Mittagstisch für Schüler\n\nKinder stark machen und Selbstbewusstsein aufbauen\, liegt dem SOS-Kinderdorf am Herzen. Und das nicht nur im SOS-Kinderdorf in Worpswede\, sondern ebenso in den familienunterstützenden offenen Angeboten in Bremen-Nord.\nSo hat sich der Mittagstisch des SOS-Kinderdorfes Worpswede in der Grohner Düne als offenes Angebot für Kinder und Jugendliche\, die sich im Übergang zwischen Grundschule und weiterführender Schule befinden\, zu einer festen Institution entwickelt. Dies schließt auch Kinder ab der vierten Klasse ein\, die aus unterschiedlichen Gründen keine Hortbetreuung in Anspruch nehmen können.\nMit unserem Angebot schaffen wir täglich für rund 20 selbstmotivierte Kinder und Jugendliche nach dem Schulalltag eine Anlaufstelle\, in der wir sie beteiligen und ihnen dadurch eine Atmosphäre schaffen\, in der sie sich angenommen\, wertgeschätzt und zugehörig fühlen. Hier gibt es nicht nur jeden Tag nach der Schule einen Mittagssnack\, sondern auch vielfältige Freizeitgestaltung wie Kreativangebote\, Gemeinschaftsspiele\, interkulturelles Kochen\, Hausaufgabenbetreuung und wöchentliches Fußballtraining mit Trainern von Werder Bremen im Rahmen\ndes „Spielraum“ Projektes.
URL:https://our-events.de/event/mittagstisch-fuer-schueler/2028-08-28/
LOCATION:Grown\, Friedrich-Klippert-Straße 2\, Bremen\, 28759
CATEGORIES:Treffpunkt
ATTACH;FMTTYPE=image/webp:https://our-events.de/wp-content/uploads/2025/07/sos-kinderdorf.webp
END:VEVENT
BEGIN:VEVENT
DTSTART;TZID=Europe/Berlin:20280829T090000
DTEND;TZID=Europe/Berlin:20280829T160000
DTSTAMP:20260420T004416
CREATED:20260204T132235Z
LAST-MODIFIED:20260204T134922Z
UID:10033250-1851152400-1851177600@our-events.de
SUMMARY:Ankommen im Quartier - Beratung für Zugwanderte Bürger*innen mit Wohnraum -
DESCRIPTION:Die Beratungsstellen “Ankommen im Quartier” beraten\, begleiten und unterstützen Geflüchtete\, die bereits in eigenem Wohnraum leben. \n 
URL:https://our-events.de/event/ankommen-im-quartier-beratung-fuer-zugwanderte-buergerinnen-mit-wohnraum-2/2028-08-29/
LOCATION:Ankommen im Quartier (AiQ) Kattenturm\, Gorsemannstraße 26\, Bremen\, 28277
CATEGORIES:Beratung
ATTACH;FMTTYPE=image/jpeg:https://our-events.de/wp-content/uploads/2026/01/1769768566434-3ec7372c-e478-43a0-9556-7412b3438d342025pdf_1-1.jpg
END:VEVENT
BEGIN:VEVENT
DTSTART;TZID=Europe/Berlin:20280829T100000
DTEND;TZID=Europe/Berlin:20280829T120000
DTSTAMP:20260420T004416
CREATED:20260130T113942Z
LAST-MODIFIED:20260130T120005Z
UID:10031648-1851156000-1851163200@our-events.de
SUMMARY:Info Café
DESCRIPTION:hier treffen sich Menschen aus Kattenturm\, die in entspannter Atmosphäre bei Kaffee und Keksen neue Kontakte knüpfen\, Deutsch lernen\, und Informationen jeglicher Art erhalten möchten. Gemeinsam organisieren wir auch Ausflüge. Das Treffen ist offen für alle. Es gibt auch einen schönen Kinderbereich\, wo Eure/Ihre Kinder spielen können. Es gibt keine Betreuung. \nWir freuen uns immer über Hilfe\, falls Du/Sie sich gerne einbringen möchten. Es ist ein Treffen mit und für Bürger*innen. \n  \nDas Info Café findet nicht während der Schulferien statt. \nWir freuen uns Euch/Sie kennenzulernen. \n  \nChristina Stolle &\nAnne Langerbeck \n 
URL:https://our-events.de/event/info-cafe/2028-08-29/
LOCATION:freiraum – Kattentreff\, Theodor-Billroth-Straße 129\, Bremen\, 28277
CATEGORIES:Kaffeeklatsch,Kattenturm,Sprachcafé
ATTACH;FMTTYPE=image/png:https://our-events.de/wp-content/uploads/2026/01/infoCafe_Stand_28.1.26.png
END:VEVENT
BEGIN:VEVENT
DTSTART;TZID=Europe/Berlin:20280829T150000
DTEND;TZID=Europe/Berlin:20280829T170000
DTSTAMP:20260420T004416
CREATED:20251110T112843Z
LAST-MODIFIED:20251110T112843Z
UID:10028466-1851174000-1851181200@our-events.de
SUMMARY:Kaffeeklatsch
DESCRIPTION:Erika Lenz sorgt für Gemütliches Beisammensein bei Kaffee und Kuchen.
URL:https://our-events.de/event/kaffeeklatsch/2028-08-29/
LOCATION:Nachbarschaftstreff Stadtteilhaus Kattenturm\, Robert-Koch-Straße 70\, Bremen\, 28277
CATEGORIES:Kaffeeklatsch,Treffpunkt
ATTACH;FMTTYPE=image/jpeg:https://our-events.de/wp-content/uploads/2025/11/Kaffeeklatsch-768x512-1.jpg
END:VEVENT
BEGIN:VEVENT
DTSTART;TZID=Europe/Berlin:20280829T150000
DTEND;TZID=Europe/Berlin:20280829T180000
DTSTAMP:20260420T004416
CREATED:20260330T143908Z
LAST-MODIFIED:20260330T143908Z
UID:10037566-1851174000-1851184800@our-events.de
SUMMARY:Truhe 24 - Second Hand in Kattenturm
DESCRIPTION:Die „Truhe 24“ ist ein Projekt\, das zeigt\, wie Nachbarschaft und Gemeinschaft in Bremen gelebt werden. Es ist ein Ort zum Aufatmen\, zum Stöbern und vor allem zum Mensch sein. \nHinter der Truhe 24 steht eine starke Gemeinschaft. Es ist eine Kooperation der Abraham-Gemeinde\, der Paulus-Gemeinde und der St.-Markus-Gemeinde aus Bremen-Obervieland. Die treibenden Kräfte vor Ort sind Ingo Bröckel und Brigitte Jander. Gemeinsam mit vielen freiwilligen Helfern sorgen sie dafür\, dass sich jeder Gast willkommen fühlt. Hier zählt nicht der Geldbeutel\, sondern der Mensch. Wertschätzung und ein offenes Ohr werden hier großgeschrieben.
URL:https://our-events.de/event/truhe-24-second-hand-in-kattenturm/2028-08-29/
LOCATION:Truhe 24\, Alfred-Faust-Straße 24\, Bremen\, 28277
CATEGORIES:Treffpunkt
ATTACH;FMTTYPE=image/jpeg:https://our-events.de/wp-content/uploads/2026/03/Truhe-24-Kleiderkammer-mi-Mikro.jpeg
END:VEVENT
BEGIN:VEVENT
DTSTART;TZID=Europe/Berlin:20280829T170000
DTEND;TZID=Europe/Berlin:20280829T183000
DTSTAMP:20260420T004416
CREATED:20260305T101750Z
LAST-MODIFIED:20260306T080951Z
UID:10036695-1851181200-1851186600@our-events.de
SUMMARY:Kreativ-Cafe für Frauen
DESCRIPTION:Im Haus der Familie Obervieland findet jeden Dienstag von 17:00-18:30 Uhr ein Kreativ-Cafe für Frauen statt. \nEs besteht für euch die Möglichkeit unter Anleitung zu häkeln\, stricken\, nähen und sich in einer gemütlichen Runde beim gemeinsamen Tee/Kaffee auszutauschen. Frauen jeden Alters mit und ohne Flucht-und Migrationshintergrund sind mit ihren Kindern herzlich willkommen. \nDer Kurs ist kostenlos und es wird eine Kinderbetreuung angeboten!
URL:https://our-events.de/event/kreativ-cafe-fuer-frauen-2/2028-08-29/
LOCATION:Haus der Familie Obervieland\, Eichelnkämpe 11\, Bremen\, 28277
CATEGORIES:Hobby,Kreatives
END:VEVENT
END:VCALENDAR