BEGIN:VCALENDAR
VERSION:2.0
PRODID:-//Our Events - ECPv6.15.20//NONSGML v1.0//EN
CALSCALE:GREGORIAN
METHOD:PUBLISH
X-WR-CALNAME:Our Events
X-ORIGINAL-URL:https://our-events.de
X-WR-CALDESC:Veranstaltungen für Our Events
REFRESH-INTERVAL;VALUE=DURATION:PT1H
X-Robots-Tag:noindex
X-PUBLISHED-TTL:PT1H
BEGIN:VTIMEZONE
TZID:Europe/Berlin
BEGIN:DAYLIGHT
TZOFFSETFROM:+0100
TZOFFSETTO:+0200
TZNAME:CEST
DTSTART:20250330T010000
END:DAYLIGHT
BEGIN:STANDARD
TZOFFSETFROM:+0200
TZOFFSETTO:+0100
TZNAME:CET
DTSTART:20251026T010000
END:STANDARD
BEGIN:DAYLIGHT
TZOFFSETFROM:+0100
TZOFFSETTO:+0200
TZNAME:CEST
DTSTART:20260329T010000
END:DAYLIGHT
BEGIN:STANDARD
TZOFFSETFROM:+0200
TZOFFSETTO:+0100
TZNAME:CET
DTSTART:20261025T010000
END:STANDARD
BEGIN:DAYLIGHT
TZOFFSETFROM:+0100
TZOFFSETTO:+0200
TZNAME:CEST
DTSTART:20270328T010000
END:DAYLIGHT
BEGIN:STANDARD
TZOFFSETFROM:+0200
TZOFFSETTO:+0100
TZNAME:CET
DTSTART:20271031T010000
END:STANDARD
END:VTIMEZONE
BEGIN:VEVENT
DTSTART;TZID=Europe/Berlin:20260420T133000
DTEND;TZID=Europe/Berlin:20260424T153000
DTSTAMP:20260424T025754
CREATED:20250707T124355Z
LAST-MODIFIED:20250707T124355Z
UID:10026802-1776691800-1777044600@our-events.de
SUMMARY:Mittagstisch für Schüler
DESCRIPTION:Mittagstisch für Schüler\n\nKinder stark machen und Selbstbewusstsein aufbauen\, liegt dem SOS-Kinderdorf am Herzen. Und das nicht nur im SOS-Kinderdorf in Worpswede\, sondern ebenso in den familienunterstützenden offenen Angeboten in Bremen-Nord.\nSo hat sich der Mittagstisch des SOS-Kinderdorfes Worpswede in der Grohner Düne als offenes Angebot für Kinder und Jugendliche\, die sich im Übergang zwischen Grundschule und weiterführender Schule befinden\, zu einer festen Institution entwickelt. Dies schließt auch Kinder ab der vierten Klasse ein\, die aus unterschiedlichen Gründen keine Hortbetreuung in Anspruch nehmen können.\nMit unserem Angebot schaffen wir täglich für rund 20 selbstmotivierte Kinder und Jugendliche nach dem Schulalltag eine Anlaufstelle\, in der wir sie beteiligen und ihnen dadurch eine Atmosphäre schaffen\, in der sie sich angenommen\, wertgeschätzt und zugehörig fühlen. Hier gibt es nicht nur jeden Tag nach der Schule einen Mittagssnack\, sondern auch vielfältige Freizeitgestaltung wie Kreativangebote\, Gemeinschaftsspiele\, interkulturelles Kochen\, Hausaufgabenbetreuung und wöchentliches Fußballtraining mit Trainern von Werder Bremen im Rahmen\ndes „Spielraum“ Projektes.
URL:https://our-events.de/event/mittagstisch-fuer-schueler/2026-04-20/
LOCATION:Grown\, Friedrich-Klippert-Straße 2\, Bremen\, 28759
CATEGORIES:Treffpunkt
ATTACH;FMTTYPE=image/webp:https://our-events.de/wp-content/uploads/2025/07/sos-kinderdorf.webp
END:VEVENT
BEGIN:VEVENT
DTSTART;TZID=Europe/Berlin:20260424T090000
DTEND;TZID=Europe/Berlin:20260424T110000
DTSTAMP:20260424T025754
CREATED:20260305T102538Z
LAST-MODIFIED:20260306T081258Z
UID:10036834-1777021200-1777028400@our-events.de
SUMMARY:Eltern-Kind-Gruppe "Eichhörnchen"
DESCRIPTION:Im Haus der Familie Obervieland trifft sich jeden Freitag von 9:00-11:00 Uhr die Eltern-Kind-Gruppe “Eichhörnchen”. \nEltern mit Kindern von 1-2\,5 Jahren sind herzlich willkommen. In entspannter Atmosphäre können sich Eltern und Kinder kennenlernen und sich zu Fragen rund um den Familienalltag austauschen. Es werden erste Spiel- und Bewegungsangebote in der Gruppe vorgestellt und durchgeführt. \nDie Teilnahme an der Gruppe ist kostenlos. Bitte vorher anmelden!
URL:https://our-events.de/event/eltern-kind-gruppe-eichhoernchen/2026-04-24/
LOCATION:Haus der Familie Obervieland\, Eichelnkämpe 11\, Bremen\, 28277
CATEGORIES:Kattenturm,Menschen treffen,Spiele spielen,Treffpunkt
END:VEVENT
BEGIN:VEVENT
DTSTART;TZID=Europe/Berlin:20260424T110000
DTEND;TZID=Europe/Berlin:20260424T170000
DTSTAMP:20260424T025754
CREATED:20251107T163033Z
LAST-MODIFIED:20260402T112720Z
UID:10038506-1777028400-1777050000@our-events.de
SUMMARY:Eintrittskarten Overbeck-Museum: Du traust mir nicht genug Talent zu! – Hermine Overbeck-Rohte in ihrer Zeit - Karten täglich gültig zu den Öffnungszeiten
DESCRIPTION:Die Karten sind  täglich zu den Öffnungszeiten gültig. Letzter Tag für eine Ticket-Reservierung ist der 02.11.2025. \n\n\n\n\n\n\n\n\n\nHermine Overbeck-Rohte kommt 1896 nach Worpswede\, um Malunterricht bei Fritz Overbeck zu nehmen. Sie ist damit\, gemeinsam mit Marie Bock\, die erste Malerin in dem Künstlerdorf. Nur ein Jahr später heiratet sie ihren Lehrer und ringt fortan darum\, beides zu sein: Künstlergattin und Malerin. In ihren ersten Ehejahren\, auch nach der Geburt des ersten Kindes\, entstehen viele ihrer wichtigsten Werke. Sie hat ein eigenes Atelier und arbeitet selbstbewusst an der Seite ihres Mannes. Doch eine schwere Tuberkuloseerkrankung bremst ihre Schaffenskraft. \n\n\n\n\n\n\nDas Künstlerpaar verlässt Worpswede schon 1905 und zieht nach Vegesack. Hermine Overbeck-Rohte malt ihre neue Umgebung\, den eigenen Garten und zahlreiche Stillleben. Doch die Erkrankung zwingt sie erneut zu einem langen Sanatoriumsaufenthalt. Im Jahr 1909 stirbt ihr Mann\, der Maler Fritz Overbeck\, unerwartet im Alter von nur 39 Jahren. Hermine Overbeck-Rohte wird zu seiner Nachlassverwalterin und stellt ihr eigenes Schaffen hintan. Erst 1991\, mehr als 50 Jahre nach ihrem Tod\, wird ihr Werk erstmals umfassend öffentlich ausgestellt. \n\n\n\n\n\n\nDie Ausstellung zeichnet den Lebensweg Hermine Overbeck-Rohtes anhand ihrer Werke und zahlreicher persönlicher Fotografien und Dokumente nach und beleuchtet zugleich die Situation der Malerinnen um 1900. Gesellschaftliche Rollenerwartungen\, eingeschränkte Ausbildungsmöglichkeiten und die erste Emanzipationsbewegung prägen diese Zeit. \n  \n\n\n\nBitte aktiviere JavaScript in deinem Browser\, um dieses Formular fertigzustellen.Bitte aktiviere JavaScript in deinem Browser\, um dieses Formular fertigzustellen.Bitte das Datum der Veranstaltung angeben *Bitte die Anzahl der zu reservierenden Tickets auswählenIch bin *KulturgastKulturbegleiter:inAnrede Interessent:in *FrauHerrDiversVorname  *Name *E-Mail  *Ich benötige Unterstützung für den Besuch der Veranstaltung *janeinIch möchte den Programm Newsletter der Kulturtafel abonnieren. Das kann ich jederzeit rückgängig machen.janeinDSGVO Einverständnis *Ich willige ein\, dass diese Website meine übermittelten Informationen speichert\, sodass meine Anfrage beantwortet werden kann.Angaben bestätigen
URL:https://our-events.de/event/eintrittskarten-overbeck-museum-du-traust-mir-nicht-genug-talent-zu-hermine-overbeck-rohte-in-ihrer-zeit-karten-taeglich-gueltig-zu-den-oeffnungszeiten/2026-04-24/
LOCATION:Overbeck Museum\, Alte Hafenstraße 30\, Bremen\, Bremen\, 28757\, Deutschland
CATEGORIES:Ausstellung,Grohn
ATTACH;FMTTYPE=image/png:https://our-events.de/wp-content/uploads/2024/09/Overbeck-Museum.png
END:VEVENT
BEGIN:VEVENT
DTSTART;TZID=Europe/Berlin:20260424T150000
DTEND;TZID=Europe/Berlin:20260424T170000
DTSTAMP:20260424T025754
CREATED:20251205T104238Z
LAST-MODIFIED:20260402T113404Z
UID:10038573-1777042800-1777050000@our-events.de
SUMMARY:Ausstellung des offenen ATELIERS
DESCRIPTION:Jeden Freitag von 14 bis 16:30 Uhr entstehen im „offenen Atelier” Radierungen\, Linolschnitte und Zeichnungen\, aber auch Arbeiten mit Aquarell- und Acrylfarben\, Pastellkreiden oder Kohle. Begleitet von dem Künstler Udo Steinmann haben sich die Teilnehmer:innen 2025 schwerpunktmäßig mit den Themen Universum und Planeten befasst. Die Ergebnisse sind seit dem 16. Januar 2026 zu den Öffnungszeiten der VHS Süd in einer Ausstellung im ATELIER und in den Fluren der VHS zu sehen. \nAlle Interessierten sind herzlich willkommen! Der Eintritt ist frei.
URL:https://our-events.de/event/vernissage-im-atelier/2026-04-24/
LOCATION:ATELIER // Quartier in Kattenturm\, Theodor-Billroth-Straße 5\, Bremen\, 28277
CATEGORIES:Ausstellung,Kattenturm,Kunst
ATTACH;FMTTYPE=image/jpeg:https://our-events.de/wp-content/uploads/2025/12/Offenes-Atelier_Bild©Gabriele-Bendig.jpg
ORGANIZER;CN="Quartier gGmbH":MAILTO:atelier@quartier-bremen.de
END:VEVENT
BEGIN:VEVENT
DTSTART;TZID=Europe/Berlin:20260424T200000
DTEND;TZID=Europe/Berlin:20260424T220000
DTSTAMP:20260424T025754
CREATED:20260304T181403Z
LAST-MODIFIED:20260304T181403Z
UID:10036173-1777060800-1777068000@our-events.de
SUMMARY:Habenhauser Schafferkonzerte KLASSIK - Duo Pohádka - Joh. Krebs & L. Hammerbacher · Kammermusik für Klavier und Cello
DESCRIPTION:Werke von Lera Auerbach\, Johannes Brahms\, Gabriel Fauré \nLydia Hammerbacher – Klavier\nJohannes Krebs – Cello \nDie Pianistin Lydia Hammerbacher und der Cellist Johannes Krebs begegneten sich in ihrer gemeinsamen Zeit an der HfK-Bremen. Sie haben in vielen Konzerten bereits einen erheblichen Teil des beliebten Repertoires für ihre Instrumente auf die Bühne gebracht. \n\nLydia begann bereits früh mit dem Klavierspiel. Schon während der Schulzeit war sie Preisträgerin vieler Wettbewerbe\, (z.B. Nürnberger Klavierwettbewerbs\, Jugend Musiziert). Sie studierte bei Claudia Birkholz und Günther Herzfeld an der HfK-Bremen\, und war anschliessend dort als Korrepetitorin tätig. Mit dem Trio Manuk gewann sie 2014 den 1. Preis des Wettbewerbs „Riviera Etrusca“. Die Nachwuchsarbeit ist ihr in vielerlei Hinsicht wichtig. Sie war Mitbegründerin und Leiterin des Jugendensembles Neue Musik in Bremen. \n\nJohannes ist einer der meist beachteten und facettenreichsten Musiker seiner Generation. Nach Studium bei F. Helmerson\, F.-J. Sellheim\, K. Heitz und R. Latzko\, und Meisterkurse bei u.a. B. Pergamenschikow\, B. Greenhouse\, W. Boettcher\, M. Pressler und Y. Menuhin\, gewann er zahlreiche Preise. Er ist als Solist mit Orchestern und Kammermusiker weltweit in renommierten Konzertsälen zu erleben. Mit besonderer Leidenschaft widmet er sich dem Unterrichten. Er ist Professor an der Kunstuniversität Graz\, und gibt regelmäßig Meisterkurse. Er ist künstlerischer Leiter des Kammermusikfestivals „Musikfest Goslar“\, und spielt auf einem prachtvollen Cello von Carlo Antonio Testore\, Mailand 1746. \nCopyright Text & Bild: Simon-Petrus-Kirche
URL:https://our-events.de/event/habenhauser-schafferkonzerte-klassik-duo-pohadka-joh-krebs-l-hammerbacher-%c2%b7-kammermusik-fuer-klavier-und-cello/
LOCATION:Simon-Petri-Kirche Habenhausen\, Ev. Kirchengemeinde Arsten-Habenhausen\, Bremen\, Bremen\, 28279\, Germany
CATEGORIES:Konzert
ATTACH;FMTTYPE=image/jpeg:https://our-events.de/wp-content/uploads/2026/03/februar2025_duo-pohadka_homepage.jpg
END:VEVENT
BEGIN:VEVENT
DTSTART;TZID=Europe/Berlin:20260424T210000
DTEND;TZID=Europe/Berlin:20260424T230000
DTSTAMP:20260424T025754
CREATED:20260331T150022Z
LAST-MODIFIED:20260331T150022Z
UID:10038486-1777064400-1777071600@our-events.de
SUMMARY:Moore & More - Gary Moore Cover\, Köln im Meisenfrei
DESCRIPTION:Heute ist eine der profiliertesten und erfolgreichsten Tribute-Bands zu Gast\, die sich das Werk Gary Moores auf die Fahnen geschrieben hat. Dabei führen Moore and More nicht nur Stücke aus der Zeit der Solokarriere des nordirischen Musikers auf. Auch Songs aus Garys Zeit bei Colosseum II\, Thin Lizzy\, der Greg Lake Band und BBM (Jack Bruce\, Ginger Baker & Gary Moore) kommen zu Gehör. Dabei gibt es bekannte und weniger bekannte Kompositionen zu bestaunen\, auch wenn Klassiker wie Still Got The Blues\, Walking By Myself\, Parisienne Walkways\, Friday On My Mind\, Over The Hills And Far Away natürlich nicht fehlen dürfen. Und falls sich jemand um die Authentizität Sorgen machen sollte: Sowohl Gitarrist als auch Keyboarder von Moore and More spielen auf Original-Equipment! \nCopyright Text & Bild: Meisenfrei
URL:https://our-events.de/event/moore-more-gary-moore-cover-koeln-im-meisenfrei/
LOCATION:Meisenfrei\, Hankenstraße 18\, Bremen\, 28195
CATEGORIES:Konzert
ATTACH;FMTTYPE=image/png:https://our-events.de/wp-content/uploads/2026/03/Unterstuetzer_Meisenfrei.png
END:VEVENT
END:VCALENDAR