BEGIN:VCALENDAR
VERSION:2.0
PRODID:-//Our Events - ECPv6.15.20//NONSGML v1.0//EN
CALSCALE:GREGORIAN
METHOD:PUBLISH
X-WR-CALNAME:Our Events
X-ORIGINAL-URL:https://our-events.de
X-WR-CALDESC:Veranstaltungen für Our Events
REFRESH-INTERVAL;VALUE=DURATION:PT1H
X-Robots-Tag:noindex
X-PUBLISHED-TTL:PT1H
BEGIN:VTIMEZONE
TZID:Europe/Berlin
BEGIN:DAYLIGHT
TZOFFSETFROM:+0100
TZOFFSETTO:+0200
TZNAME:CEST
DTSTART:20250330T010000
END:DAYLIGHT
BEGIN:STANDARD
TZOFFSETFROM:+0200
TZOFFSETTO:+0100
TZNAME:CET
DTSTART:20251026T010000
END:STANDARD
BEGIN:DAYLIGHT
TZOFFSETFROM:+0100
TZOFFSETTO:+0200
TZNAME:CEST
DTSTART:20260329T010000
END:DAYLIGHT
BEGIN:STANDARD
TZOFFSETFROM:+0200
TZOFFSETTO:+0100
TZNAME:CET
DTSTART:20261025T010000
END:STANDARD
BEGIN:DAYLIGHT
TZOFFSETFROM:+0100
TZOFFSETTO:+0200
TZNAME:CEST
DTSTART:20270328T010000
END:DAYLIGHT
BEGIN:STANDARD
TZOFFSETFROM:+0200
TZOFFSETTO:+0100
TZNAME:CET
DTSTART:20271031T010000
END:STANDARD
END:VTIMEZONE
BEGIN:VEVENT
DTSTART;TZID=Europe/Berlin:20260420T133000
DTEND;TZID=Europe/Berlin:20260424T153000
DTSTAMP:20260421T032124
CREATED:20250707T124355Z
LAST-MODIFIED:20250707T124355Z
UID:10026802-1776691800-1777044600@our-events.de
SUMMARY:Mittagstisch für Schüler
DESCRIPTION:Mittagstisch für Schüler\n\nKinder stark machen und Selbstbewusstsein aufbauen\, liegt dem SOS-Kinderdorf am Herzen. Und das nicht nur im SOS-Kinderdorf in Worpswede\, sondern ebenso in den familienunterstützenden offenen Angeboten in Bremen-Nord.\nSo hat sich der Mittagstisch des SOS-Kinderdorfes Worpswede in der Grohner Düne als offenes Angebot für Kinder und Jugendliche\, die sich im Übergang zwischen Grundschule und weiterführender Schule befinden\, zu einer festen Institution entwickelt. Dies schließt auch Kinder ab der vierten Klasse ein\, die aus unterschiedlichen Gründen keine Hortbetreuung in Anspruch nehmen können.\nMit unserem Angebot schaffen wir täglich für rund 20 selbstmotivierte Kinder und Jugendliche nach dem Schulalltag eine Anlaufstelle\, in der wir sie beteiligen und ihnen dadurch eine Atmosphäre schaffen\, in der sie sich angenommen\, wertgeschätzt und zugehörig fühlen. Hier gibt es nicht nur jeden Tag nach der Schule einen Mittagssnack\, sondern auch vielfältige Freizeitgestaltung wie Kreativangebote\, Gemeinschaftsspiele\, interkulturelles Kochen\, Hausaufgabenbetreuung und wöchentliches Fußballtraining mit Trainern von Werder Bremen im Rahmen\ndes „Spielraum“ Projektes.
URL:https://our-events.de/event/mittagstisch-fuer-schueler/2026-04-20/
LOCATION:Grown\, Friedrich-Klippert-Straße 2\, Bremen\, 28759
CATEGORIES:Treffpunkt
ATTACH;FMTTYPE=image/webp:https://our-events.de/wp-content/uploads/2025/07/sos-kinderdorf.webp
END:VEVENT
BEGIN:VEVENT
DTSTART;TZID=Europe/Berlin:20260421T090000
DTEND;TZID=Europe/Berlin:20260421T160000
DTSTAMP:20260421T032124
CREATED:20260204T132235Z
LAST-MODIFIED:20260204T134922Z
UID:10032881-1776762000-1776787200@our-events.de
SUMMARY:Ankommen im Quartier - Beratung für Zugwanderte Bürger*innen mit Wohnraum -
DESCRIPTION:Die Beratungsstellen “Ankommen im Quartier” beraten\, begleiten und unterstützen Geflüchtete\, die bereits in eigenem Wohnraum leben. \n 
URL:https://our-events.de/event/ankommen-im-quartier-beratung-fuer-zugwanderte-buergerinnen-mit-wohnraum-2/2026-04-21/
LOCATION:Ankommen im Quartier (AiQ) Kattenturm\, Gorsemannstraße 26\, Bremen\, 28277
CATEGORIES:Beratung
ATTACH;FMTTYPE=image/jpeg:https://our-events.de/wp-content/uploads/2026/01/1769768566434-3ec7372c-e478-43a0-9556-7412b3438d342025pdf_1-1.jpg
END:VEVENT
BEGIN:VEVENT
DTSTART;TZID=Europe/Berlin:20260421T100000
DTEND;TZID=Europe/Berlin:20260421T120000
DTSTAMP:20260421T032124
CREATED:20260130T113942Z
LAST-MODIFIED:20260130T120005Z
UID:10031526-1776765600-1776772800@our-events.de
SUMMARY:Info Café
DESCRIPTION:hier treffen sich Menschen aus Kattenturm\, die in entspannter Atmosphäre bei Kaffee und Keksen neue Kontakte knüpfen\, Deutsch lernen\, und Informationen jeglicher Art erhalten möchten. Gemeinsam organisieren wir auch Ausflüge. Das Treffen ist offen für alle. Es gibt auch einen schönen Kinderbereich\, wo Eure/Ihre Kinder spielen können. Es gibt keine Betreuung. \nWir freuen uns immer über Hilfe\, falls Du/Sie sich gerne einbringen möchten. Es ist ein Treffen mit und für Bürger*innen. \n  \nDas Info Café findet nicht während der Schulferien statt. \nWir freuen uns Euch/Sie kennenzulernen. \n  \nChristina Stolle &\nAnne Langerbeck \n 
URL:https://our-events.de/event/info-cafe/2026-04-21/
LOCATION:freiraum – Kattentreff\, Theodor-Billroth-Straße 129\, Bremen\, 28277
CATEGORIES:Kaffeeklatsch,Kattenturm,Sprachcafé
ATTACH;FMTTYPE=image/png:https://our-events.de/wp-content/uploads/2026/01/infoCafe_Stand_28.1.26.png
END:VEVENT
BEGIN:VEVENT
DTSTART;TZID=Europe/Berlin:20260421T150000
DTEND;TZID=Europe/Berlin:20260421T180000
DTSTAMP:20260421T032124
CREATED:20260330T143908Z
LAST-MODIFIED:20260330T143908Z
UID:10037443-1776783600-1776794400@our-events.de
SUMMARY:Truhe 24 - Second Hand in Kattenturm
DESCRIPTION:Die „Truhe 24“ ist ein Projekt\, das zeigt\, wie Nachbarschaft und Gemeinschaft in Bremen gelebt werden. Es ist ein Ort zum Aufatmen\, zum Stöbern und vor allem zum Mensch sein. \nHinter der Truhe 24 steht eine starke Gemeinschaft. Es ist eine Kooperation der Abraham-Gemeinde\, der Paulus-Gemeinde und der St.-Markus-Gemeinde aus Bremen-Obervieland. Die treibenden Kräfte vor Ort sind Ingo Bröckel und Brigitte Jander. Gemeinsam mit vielen freiwilligen Helfern sorgen sie dafür\, dass sich jeder Gast willkommen fühlt. Hier zählt nicht der Geldbeutel\, sondern der Mensch. Wertschätzung und ein offenes Ohr werden hier großgeschrieben.
URL:https://our-events.de/event/truhe-24-second-hand-in-kattenturm/2026-04-21/
LOCATION:Truhe 24\, Alfred-Faust-Straße 24\, Bremen\, 28277
CATEGORIES:Treffpunkt
ATTACH;FMTTYPE=image/jpeg:https://our-events.de/wp-content/uploads/2026/03/Truhe-24-Kleiderkammer-mi-Mikro.jpeg
END:VEVENT
BEGIN:VEVENT
DTSTART;TZID=Europe/Berlin:20260421T170000
DTEND;TZID=Europe/Berlin:20260421T183000
DTSTAMP:20260421T032124
CREATED:20260305T101750Z
LAST-MODIFIED:20260306T080951Z
UID:10036572-1776790800-1776796200@our-events.de
SUMMARY:Kreativ-Cafe für Frauen
DESCRIPTION:Im Haus der Familie Obervieland findet jeden Dienstag von 17:00-18:30 Uhr ein Kreativ-Cafe für Frauen statt. \nEs besteht für euch die Möglichkeit unter Anleitung zu häkeln\, stricken\, nähen und sich in einer gemütlichen Runde beim gemeinsamen Tee/Kaffee auszutauschen. Frauen jeden Alters mit und ohne Flucht-und Migrationshintergrund sind mit ihren Kindern herzlich willkommen. \nDer Kurs ist kostenlos und es wird eine Kinderbetreuung angeboten!
URL:https://our-events.de/event/kreativ-cafe-fuer-frauen-2/2026-04-21/
LOCATION:Haus der Familie Obervieland\, Eichelnkämpe 11\, Bremen\, 28277
CATEGORIES:Hobby,Kreatives
END:VEVENT
BEGIN:VEVENT
DTSTART;TZID=Europe/Berlin:20260421T200000
DTEND;TZID=Europe/Berlin:20260421T220000
DTSTAMP:20260421T032124
CREATED:20260317T180332Z
LAST-MODIFIED:20260317T180332Z
UID:10037400-1776801600-1776808800@our-events.de
SUMMARY:Dudley Taft - Alternativ Rock & Blues\, USA im Meisenfrei
DESCRIPTION:Das Dudley Taft mehrere US-Senatoren\, -Gouverneure und sogar einen inzwischen ziemlich toten Präsidenten im Stammbaum hat: Erwähnenswert. Das er zu Hochzeiten des Grunge mit seiner ehemaligen Band mit Candlebox\, Soundgarden und Alice In Chains unterwegs war: Bemerkenswert. Richtig interessant ist jedoch\, was der Mann aktuell treibt: genialer\, ausgefeilter und so richtig fetter Blues und Bluesrock. Man nehme: etwas Texas-Blues\, ein Hauch Mississippi Delta\, Siebzigerjahre-Hardrock\, Old-School-Blues und eine Prise Grunge\, dann kommt das heraus\, was Dudley Taft Seattle-Blues nennt. Wobei der Künstler nicht nur hart sondern auch ruhig kann\, wozu seine überraschend feinfühlige Stimme perfekt passt. Da sich seine musikalischen Kompagnons ebenfalls auf künstlerisch ganz hohem Niveau bewegen\, sollte ein Besuch in unserem Etablissement ganz oben auf der heutigen ToDo-Liste stehen. \nCopyright Text & Bild: Meisenfrei
URL:https://our-events.de/event/dudley-taft-alternativ-rock-blues-usa-im-meisenfrei-2/
LOCATION:Meisenfrei\, Hankenstraße 18\, Bremen\, 28195
CATEGORIES:Konzert
ATTACH;FMTTYPE=image/jpeg:https://our-events.de/wp-content/uploads/2026/03/2026-04-21-DudleyTaft.jpg
END:VEVENT
END:VCALENDAR