BEGIN:VCALENDAR
VERSION:2.0
PRODID:-//Our Events - ECPv6.15.20//NONSGML v1.0//EN
CALSCALE:GREGORIAN
METHOD:PUBLISH
X-WR-CALNAME:Our Events
X-ORIGINAL-URL:https://our-events.de
X-WR-CALDESC:Veranstaltungen für Our Events
REFRESH-INTERVAL;VALUE=DURATION:PT1H
X-Robots-Tag:noindex
X-PUBLISHED-TTL:PT1H
BEGIN:VTIMEZONE
TZID:Europe/Berlin
BEGIN:DAYLIGHT
TZOFFSETFROM:+0100
TZOFFSETTO:+0200
TZNAME:CEST
DTSTART:20250330T010000
END:DAYLIGHT
BEGIN:STANDARD
TZOFFSETFROM:+0200
TZOFFSETTO:+0100
TZNAME:CET
DTSTART:20251026T010000
END:STANDARD
BEGIN:DAYLIGHT
TZOFFSETFROM:+0100
TZOFFSETTO:+0200
TZNAME:CEST
DTSTART:20260329T010000
END:DAYLIGHT
BEGIN:STANDARD
TZOFFSETFROM:+0200
TZOFFSETTO:+0100
TZNAME:CET
DTSTART:20261025T010000
END:STANDARD
BEGIN:DAYLIGHT
TZOFFSETFROM:+0100
TZOFFSETTO:+0200
TZNAME:CEST
DTSTART:20270328T010000
END:DAYLIGHT
BEGIN:STANDARD
TZOFFSETFROM:+0200
TZOFFSETTO:+0100
TZNAME:CET
DTSTART:20271031T010000
END:STANDARD
END:VTIMEZONE
BEGIN:VEVENT
DTSTART;TZID=Europe/Berlin:20260420T090000
DTEND;TZID=Europe/Berlin:20260420T123000
DTSTAMP:20260420T013640
CREATED:20260130T101514Z
LAST-MODIFIED:20260204T132927Z
UID:10035731-1776675600-1776688200@our-events.de
SUMMARY:Ankommen im Quartier - Beratung für Zugwanderte Bürger*innen mit Wohnraum -
DESCRIPTION:Die Beratungsstellen “Ankommen im Quartier” beraten\, begleiten und unterstützen Geflüchtete\, die bereits in eigenem Wohnraum leben. \n 
URL:https://our-events.de/event/ankommen-im-quartier-beratung-fuer-zugwanderte-buergerinnen-mit-wohnraum/2026-04-20/
LOCATION:Ankommen im Quartier (AiQ) Kattenturm\, Gorsemannstraße 26\, Bremen\, 28277
CATEGORIES:Beratung
ATTACH;FMTTYPE=image/jpeg:https://our-events.de/wp-content/uploads/2026/01/1769768566434-3ec7372c-e478-43a0-9556-7412b3438d342025pdf_1-1.jpg
END:VEVENT
BEGIN:VEVENT
DTSTART;TZID=Europe/Berlin:20260420T093000
DTEND;TZID=Europe/Berlin:20260420T110000
DTSTAMP:20260420T013640
CREATED:20260305T095444Z
LAST-MODIFIED:20260306T081158Z
UID:10036181-1776677400-1776682800@our-events.de
SUMMARY:TippTapp Baby-Treff Kattenturm
DESCRIPTION:Im Haus der Familie Obervieland findet jeden Montag von 9:30-11:00 Uhr ein Baby-Treff statt. \nMütter mit ihren Säuglingen bis zum Alter von ca. 9 Monaten sind herzlich willkommen. \nDie Teilnahme an den Treffen ist kostenlos. Nur mir vorheriger Anmeldung!
URL:https://our-events.de/event/tipptapp-baby-treff-kattenturm/2026-04-20/
LOCATION:Haus der Familie Obervieland\, Eichelnkämpe 11\, Bremen\, 28277
CATEGORIES:Beratung,Kattenturm,Treffpunkt
END:VEVENT
BEGIN:VEVENT
DTSTART;TZID=Europe/Berlin:20260420T133000
DTEND;TZID=Europe/Berlin:20260424T153000
DTSTAMP:20260420T013640
CREATED:20250707T124355Z
LAST-MODIFIED:20250707T124355Z
UID:10026802-1776691800-1777044600@our-events.de
SUMMARY:Mittagstisch für Schüler
DESCRIPTION:Mittagstisch für Schüler\n\nKinder stark machen und Selbstbewusstsein aufbauen\, liegt dem SOS-Kinderdorf am Herzen. Und das nicht nur im SOS-Kinderdorf in Worpswede\, sondern ebenso in den familienunterstützenden offenen Angeboten in Bremen-Nord.\nSo hat sich der Mittagstisch des SOS-Kinderdorfes Worpswede in der Grohner Düne als offenes Angebot für Kinder und Jugendliche\, die sich im Übergang zwischen Grundschule und weiterführender Schule befinden\, zu einer festen Institution entwickelt. Dies schließt auch Kinder ab der vierten Klasse ein\, die aus unterschiedlichen Gründen keine Hortbetreuung in Anspruch nehmen können.\nMit unserem Angebot schaffen wir täglich für rund 20 selbstmotivierte Kinder und Jugendliche nach dem Schulalltag eine Anlaufstelle\, in der wir sie beteiligen und ihnen dadurch eine Atmosphäre schaffen\, in der sie sich angenommen\, wertgeschätzt und zugehörig fühlen. Hier gibt es nicht nur jeden Tag nach der Schule einen Mittagssnack\, sondern auch vielfältige Freizeitgestaltung wie Kreativangebote\, Gemeinschaftsspiele\, interkulturelles Kochen\, Hausaufgabenbetreuung und wöchentliches Fußballtraining mit Trainern von Werder Bremen im Rahmen\ndes „Spielraum“ Projektes.
URL:https://our-events.de/event/mittagstisch-fuer-schueler/2026-04-20/
LOCATION:Grown\, Friedrich-Klippert-Straße 2\, Bremen\, 28759
CATEGORIES:Treffpunkt
ATTACH;FMTTYPE=image/webp:https://our-events.de/wp-content/uploads/2025/07/sos-kinderdorf.webp
END:VEVENT
BEGIN:VEVENT
DTSTART;TZID=Europe/Berlin:20260420T150000
DTEND;TZID=Europe/Berlin:20260420T200000
DTSTAMP:20260420T013640
CREATED:20260416T125301Z
LAST-MODIFIED:20260416T125301Z
UID:10040309-1776697200-1776715200@our-events.de
SUMMARY:Jugendclub Kattenturm | Mo-Do\, 15-20 Uhr
DESCRIPTION:🕹️ Action\, Chillout & Gemeinschaft im Jugendclub Kattenturm! 🏀 \nBist du zwischen 12 und 21 Jahre alt? Dann ist das „Freizi“ dein Ort in Kattenturm! Ob Billard\, Gaming auf Großbildleinwand\, Musikstudio oder einfach nur Abhängen mit Freunden – hier ist alles möglich. 🎸🎮 \n🔥 Highlights: \n\nPS4 & PC-Plätze\nMusikstudio & Mädchenraum\nBolzplatz & Basketball\nImmer jemand zum Reden da!\n\n📍 Wo? Jasper-Oelrichs-Straße 14 (Schulhof GS Stichnathstraße). \n⏰ Wann? Mo-Do\, 15-20 Uhr. \n💰 Eintritt? Kostenlos und ohne Anmeldung! \nHör in unser neues Podcast rein und erfahre mehr! 🎧 \n#KulturtafelBremen #JugendclubKattenturm #AWO #Bremen #Kattenturm #Freizeit #Jugendzentrum #GemeinsamWasErleben
URL:https://our-events.de/event/jugendclub-kattenturm-mo-do-15-20-uhr/2026-04-20/
CATEGORIES:Treffpunkt
ATTACH;FMTTYPE=image/jpeg:https://our-events.de/wp-content/uploads/2026/03/podcast-cover-Jugendclub-©-Carsten-Dohme-KI-unterstuetzt-.jpg
END:VEVENT
END:VCALENDAR