BEGIN:VCALENDAR
VERSION:2.0
PRODID:-//Our Events - ECPv6.15.20//NONSGML v1.0//EN
CALSCALE:GREGORIAN
METHOD:PUBLISH
X-WR-CALNAME:Our Events
X-ORIGINAL-URL:https://our-events.de
X-WR-CALDESC:Veranstaltungen für Our Events
REFRESH-INTERVAL;VALUE=DURATION:PT1H
X-Robots-Tag:noindex
X-PUBLISHED-TTL:PT1H
BEGIN:VTIMEZONE
TZID:Europe/Berlin
BEGIN:DAYLIGHT
TZOFFSETFROM:+0100
TZOFFSETTO:+0200
TZNAME:CEST
DTSTART:20250330T010000
END:DAYLIGHT
BEGIN:STANDARD
TZOFFSETFROM:+0200
TZOFFSETTO:+0100
TZNAME:CET
DTSTART:20251026T010000
END:STANDARD
BEGIN:DAYLIGHT
TZOFFSETFROM:+0100
TZOFFSETTO:+0200
TZNAME:CEST
DTSTART:20260329T010000
END:DAYLIGHT
BEGIN:STANDARD
TZOFFSETFROM:+0200
TZOFFSETTO:+0100
TZNAME:CET
DTSTART:20261025T010000
END:STANDARD
BEGIN:DAYLIGHT
TZOFFSETFROM:+0100
TZOFFSETTO:+0200
TZNAME:CEST
DTSTART:20270328T010000
END:DAYLIGHT
BEGIN:STANDARD
TZOFFSETFROM:+0200
TZOFFSETTO:+0100
TZNAME:CET
DTSTART:20271031T010000
END:STANDARD
END:VTIMEZONE
BEGIN:VEVENT
DTSTART;TZID=Europe/Berlin:20260413T093000
DTEND;TZID=Europe/Berlin:20260413T110000
DTSTAMP:20260420T092311
CREATED:20260305T095444Z
LAST-MODIFIED:20260306T081158Z
UID:10036180-1776072600-1776078000@our-events.de
SUMMARY:TippTapp Baby-Treff Kattenturm
DESCRIPTION:Im Haus der Familie Obervieland findet jeden Montag von 9:30-11:00 Uhr ein Baby-Treff statt. \nMütter mit ihren Säuglingen bis zum Alter von ca. 9 Monaten sind herzlich willkommen. \nDie Teilnahme an den Treffen ist kostenlos. Nur mir vorheriger Anmeldung!
URL:https://our-events.de/event/tipptapp-baby-treff-kattenturm/2026-04-13/
LOCATION:Haus der Familie Obervieland\, Eichelnkämpe 11\, Bremen\, 28277
CATEGORIES:Beratung,Kattenturm,Treffpunkt
END:VEVENT
BEGIN:VEVENT
DTSTART;TZID=Europe/Berlin:20260406T093000
DTEND;TZID=Europe/Berlin:20260406T110000
DTSTAMP:20260420T092311
CREATED:20260305T095444Z
LAST-MODIFIED:20260306T081158Z
UID:10036179-1775467800-1775473200@our-events.de
SUMMARY:TippTapp Baby-Treff Kattenturm
DESCRIPTION:Im Haus der Familie Obervieland findet jeden Montag von 9:30-11:00 Uhr ein Baby-Treff statt. \nMütter mit ihren Säuglingen bis zum Alter von ca. 9 Monaten sind herzlich willkommen. \nDie Teilnahme an den Treffen ist kostenlos. Nur mir vorheriger Anmeldung!
URL:https://our-events.de/event/tipptapp-baby-treff-kattenturm/2026-04-06/
LOCATION:Haus der Familie Obervieland\, Eichelnkämpe 11\, Bremen\, 28277
CATEGORIES:Beratung,Kattenturm,Treffpunkt
END:VEVENT
BEGIN:VEVENT
DTSTART;TZID=Europe/Berlin:20260330T093000
DTEND;TZID=Europe/Berlin:20260330T110000
DTSTAMP:20260420T092311
CREATED:20260305T095444Z
LAST-MODIFIED:20260306T081158Z
UID:10036178-1774863000-1774868400@our-events.de
SUMMARY:TippTapp Baby-Treff Kattenturm
DESCRIPTION:Im Haus der Familie Obervieland findet jeden Montag von 9:30-11:00 Uhr ein Baby-Treff statt. \nMütter mit ihren Säuglingen bis zum Alter von ca. 9 Monaten sind herzlich willkommen. \nDie Teilnahme an den Treffen ist kostenlos. Nur mir vorheriger Anmeldung!
URL:https://our-events.de/event/tipptapp-baby-treff-kattenturm/2026-03-30/
LOCATION:Haus der Familie Obervieland\, Eichelnkämpe 11\, Bremen\, 28277
CATEGORIES:Beratung,Kattenturm,Treffpunkt
END:VEVENT
BEGIN:VEVENT
DTSTART;TZID=Europe/Berlin:20260323T093000
DTEND;TZID=Europe/Berlin:20260323T110000
DTSTAMP:20260420T092311
CREATED:20260305T095444Z
LAST-MODIFIED:20260306T081158Z
UID:10036177-1774258200-1774263600@our-events.de
SUMMARY:TippTapp Baby-Treff Kattenturm
DESCRIPTION:Im Haus der Familie Obervieland findet jeden Montag von 9:30-11:00 Uhr ein Baby-Treff statt. \nMütter mit ihren Säuglingen bis zum Alter von ca. 9 Monaten sind herzlich willkommen. \nDie Teilnahme an den Treffen ist kostenlos. Nur mir vorheriger Anmeldung!
URL:https://our-events.de/event/tipptapp-baby-treff-kattenturm/2026-03-23/
LOCATION:Haus der Familie Obervieland\, Eichelnkämpe 11\, Bremen\, 28277
CATEGORIES:Beratung,Kattenturm,Treffpunkt
END:VEVENT
BEGIN:VEVENT
DTSTART;TZID=Europe/Berlin:20260316T093000
DTEND;TZID=Europe/Berlin:20260316T110000
DTSTAMP:20260420T092311
CREATED:20260305T095444Z
LAST-MODIFIED:20260306T081158Z
UID:10036176-1773653400-1773658800@our-events.de
SUMMARY:TippTapp Baby-Treff Kattenturm
DESCRIPTION:Im Haus der Familie Obervieland findet jeden Montag von 9:30-11:00 Uhr ein Baby-Treff statt. \nMütter mit ihren Säuglingen bis zum Alter von ca. 9 Monaten sind herzlich willkommen. \nDie Teilnahme an den Treffen ist kostenlos. Nur mir vorheriger Anmeldung!
URL:https://our-events.de/event/tipptapp-baby-treff-kattenturm/2026-03-16/
LOCATION:Haus der Familie Obervieland\, Eichelnkämpe 11\, Bremen\, 28277
CATEGORIES:Beratung,Kattenturm,Treffpunkt
END:VEVENT
BEGIN:VEVENT
DTSTART;TZID=Europe/Berlin:20260309T093000
DTEND;TZID=Europe/Berlin:20260309T110000
DTSTAMP:20260420T092311
CREATED:20260305T095444Z
LAST-MODIFIED:20260306T081158Z
UID:10036174-1773048600-1773054000@our-events.de
SUMMARY:TippTapp Baby-Treff Kattenturm
DESCRIPTION:Im Haus der Familie Obervieland findet jeden Montag von 9:30-11:00 Uhr ein Baby-Treff statt. \nMütter mit ihren Säuglingen bis zum Alter von ca. 9 Monaten sind herzlich willkommen. \nDie Teilnahme an den Treffen ist kostenlos. Nur mir vorheriger Anmeldung!
URL:https://our-events.de/event/tipptapp-baby-treff-kattenturm/2026-03-09/2/
LOCATION:Haus der Familie Obervieland\, Eichelnkämpe 11\, Bremen\, 28277
CATEGORIES:Beratung,Kattenturm,Treffpunkt
END:VEVENT
BEGIN:VEVENT
DTSTART;TZID=Europe/Berlin:20260309T080000
DTEND;TZID=Europe/Berlin:20260309T170000
DTSTAMP:20260420T092311
CREATED:20260305T095444Z
LAST-MODIFIED:20260306T081158Z
UID:10036175-1773043200-1773075600@our-events.de
SUMMARY:TippTapp Baby-Treff Kattenturm
DESCRIPTION:Im Haus der Familie Obervieland findet jeden Montag von 9:30-11:00 Uhr ein Baby-Treff statt. \nMütter mit ihren Säuglingen bis zum Alter von ca. 9 Monaten sind herzlich willkommen. \nDie Teilnahme an den Treffen ist kostenlos. Nur mir vorheriger Anmeldung!
URL:https://our-events.de/event/tipptapp-baby-treff-kattenturm/2026-03-09/1/
LOCATION:Haus der Familie Obervieland\, Eichelnkämpe 11\, Bremen\, 28277
CATEGORIES:Beratung,Kattenturm,Treffpunkt
END:VEVENT
END:VCALENDAR